BEGIN:VCALENDAR
VERSION:2.0
PRODID:icalendar-ruby
CALSCALE:GREGORIAN
METHOD:PUBLISH
BEGIN:VEVENT
DTSTAMP:20260425T021318Z
UID:5-317451@fccmorristown.org
DTSTART:20260524T143000Z
DTEND:20260524T153000Z
CLASS:PUBLIC
CREATED:20260223T144606
DESCRIPTION:Sunday Worship
LAST-MODIFIED:20260223T144606
LOCATION:
SUMMARY:Sunday Worship
URL;VALUE=URI:https://www.fccmorristown.org/events/sunday-worship/2026-05-2
 4
END:VEVENT
END:VCALENDAR
